<p>BEGIN:VCALENDAR
VERSION:2.0
PRODID:-//Labsum Shedrup Ling - ECPv6.15.20//NONSGML v1.0//EN
CALSCALE:GREGORIAN
METHOD:PUBLISH
X-WR-CALNAME:Labsum Shedrup Ling
X-ORIGINAL-URL:https://labsum.com
X-WR-CALDESC:Events for Labsum Shedrup Ling
REFRESH-INTERVAL;VALUE=DURATION:PT1H
X-Robots-Tag:noindex
X-PUBLISHED-TTL:PT1H
BEGIN:VTIMEZONE
TZID:America/New_York
BEGIN:DAYLIGHT
TZOFFSETFROM:-0500
TZOFFSETTO:-0400
TZNAME:EDT
DTSTART:20250309T070000
END:DAYLIGHT
BEGIN:STANDARD
TZOFFSETFROM:-0400
TZOFFSETTO:-0500
TZNAME:EST
DTSTART:20251102T060000
END:STANDARD
BEGIN:DAYLIGHT
TZOFFSETFROM:-0500
TZOFFSETTO:-0400
TZNAME:EDT
DTSTART:20260308T070000
END:DAYLIGHT
BEGIN:STANDARD
TZOFFSETFROM:-0400
TZOFFSETTO:-0500
TZNAME:EST
DTSTART:20261101T060000
END:STANDARD
BEGIN:DAYLIGHT
TZOFFSETFROM:-0500
TZOFFSETTO:-0400
TZNAME:EDT
DTSTART:20270314T070000
END:DAYLIGHT
BEGIN:STANDARD
TZOFFSETFROM:-0400
TZOFFSETTO:-0500
TZNAME:EST
DTSTART:20271107T060000
END:STANDARD
END:VTIMEZONE
BEGIN:VEVENT
DTSTART;TZID=America/New_York:20260201T140000
DTEND;TZID=America/New_York:20260201T170000
DTSTAMP:20260423T164845
CREATED:20260113T164428Z
LAST-MODIFIED:20260114T212732Z
UID:358-1769954400-1769965200@labsum.com
SUMMARY:Annual Founder's Day
DESCRIPTION:A very special event in TBLC&acirc;&#128;&#153;s annual calendar\, Founder&acirc;&#128;&#153;s Day was initiated by Geshe Wangyal himself in order to celebrate his arrival to the United States on February 5\, 1955 and out of gratitude for his prosperity in this country. When he passed away on January 30\, 1983\, this event transformed into a remembrance of his extraordinary life\, his exceptional efforts to help Buddhism flourish in America\, and his great kindness in founding TBLC. Held within the Main Temple\, this year&acirc;&#128;&#153;s annual Founder&acirc;&#128;&#153;s Day service will include prayers\, a Dharma teaching\, and a sharing of stories of Geshe Wangyal&acirc;&#128;&#153;s life.
URL:https://labsum.com/event/annual-founders-day/
LOCATION:TBLC Main Temple\, 93 Angen Rd\, Washington\, NJ\, 07882
ATTACH;FMTTYPE=image/jpeg:https://labsum.com/wp-content/uploads/2026/01/Bakshi_photo-by-Katrina-Thomas.jpeg
ORGANIZER;CN="TBLC":MAILTO:info@labsum.org
END:VEVENT
END:VCALENDAR</p>
